BEGIN:VCALENDAR
VERSION:2.0
PRODID:-//wp-events-plugin.com//7.1.7//EN
TZID:America/New_York
X-WR-TIMEZONE:America/New_York
BEGIN:VEVENT
UID:7645@bascna.thedevbox.net
DTSTART;TZID=America/New_York:20221029T170000
DTEND;TZID=America/New_York:20221029T230000
DTSTAMP:20221009T144820Z
URL:https://bascna.thedevbox.net/events/monster-ball-monster-movie-mash-up
SUMMARY:Monster Ball-Monster Movie Mash Up
DESCRIPTION:Presented by Bay Area Activities\n\n5pm Trunk-or-Treat\n\n$10 a
 t the door\n\n6:30pm Chili Cookoff\n\n8pm Keys To Recovery Meeting\n\n9pm 
 Dance\n\nCostume Contest and Prizes
LOCATION:Terra Nova\, 7550 40th Street North\, Pinellas Park\, FL\, 33781\,
  United States
GEO:27.840597;-82.68798700000002
X-APPLE-STRUCTURED-LOCATION;VALUE=URI;X-ADDRESS=7550 40th Street North\, Pi
 nellas Park\, FL\, 33781\, United States;X-APPLE-RADIUS=100;X-TITLE=Terra 
 Nova:geo:27.840597,-82.68798700000002
END:VEVENT
BEGIN:VTIMEZONE
TZID:America/New_York
X-LIC-LOCATION:America/New_York
BEGIN:DAYLIGHT
DTSTART:20220313T030000
TZOFFSETFROM:-0500
TZOFFSETTO:-0400
TZNAME:EDT
END:DAYLIGHT
END:VTIMEZONE
END:VCALENDAR