BEGIN:VCALENDAR
VERSION:2.0
PRODID:-//wp-events-plugin.com//7.1.7//EN
TZID:America/New_York
X-WR-TIMEZONE:America/New_York
BEGIN:VEVENT
UID:7668@bascna.thedevbox.net
DTSTART;TZID=America/New_York:20230520T110000
DTEND;TZID=America/New_York:20230520T150000
DTSTAMP:20230312T140034Z
URL:https://bascna.thedevbox.net/events/hospitals-institutions-speak-a-tho
 n
SUMMARY:Hospitals & Institutions - Speak-A-Thon
DESCRIPTION:Shelter #2\n\nFood\, fun and fellowship\n\n11am-12pm - Fellowsh
 ip\n\n12pm-12:30 - Speaker 1\n\n12:45 Orientation\n\n1-1:30 - Speaker 2\n\
 n1:45 Orientation\n\n2-2:30 - Speaker 3\n\n2:45 - Orientation
LOCATION:Eagle Lake Park\, 1800 Keene Rd\, largo\, florida\, 33756\, United
  States
GEO:27.9301567;-82.76362219999999
X-APPLE-STRUCTURED-LOCATION;VALUE=URI;X-ADDRESS=1800 Keene Rd\, largo\, flo
 rida\, 33756\, United States;X-APPLE-RADIUS=100;X-TITLE=Eagle Lake Park:ge
 o:27.9301567,-82.76362219999999
END:VEVENT
BEGIN:VTIMEZONE
TZID:America/New_York
X-LIC-LOCATION:America/New_York
BEGIN:DAYLIGHT
DTSTART:20230312T030000
TZOFFSETFROM:-0500
TZOFFSETTO:-0400
TZNAME:EDT
END:DAYLIGHT
END:VTIMEZONE
END:VCALENDAR