BEGIN:VCALENDAR
VERSION:2.0
PRODID:-//wp-events-plugin.com//7.1.7//EN
TZID:America/New_York
X-WR-TIMEZONE:America/New_York
BEGIN:VEVENT
UID:7523@bascna.thedevbox.net
DTSTART;TZID=America/New_York:20250504T093000
DTEND;TZID=America/New_York:20250504T103000
DTSTAMP:20221101T141128Z
URL:https://bascna.thedevbox.net/events/hospitals-and-institutions-subcomm
 ittee-2025-05-04
SUMMARY:Hospitals and Institutions Subcommittee
DESCRIPTION:What is H&amp\;I?\nThe purpose of Hospitals and Institutions is
  to carry the NA message of recovery to addicts who do not have full acces
 s to regular Narcotics Anonymous meetings\, such as those individuals in j
 ails\, hospitals\, and institutions. H&amp\;I meetings and presentations\,
  except for those in longer term facilities\, are intended to simply intro
 duce those attending to some of the basics of the NA program. Often these 
 individuals have no other way of hearing our message. It is their first ex
 posure to recovery in NA for many addicts\, so it’s imperative we carry 
 a clear and consistent message of NA recovery. We are to project a positiv
 e image of our fellowship.\n\nFirst Sunday @ 9:30 am\, at Terra Nova ClubH
 ouse\n7550 40th st. N\, Pinellas Park\, FL 33781
CATEGORIES:Group Events,Service
LOCATION:Terra Nova\, 7550 40th Street North\, Pinellas Park\, FL\, 33781\,
  United States
GEO:27.840597;-82.68798700000002
X-APPLE-STRUCTURED-LOCATION;VALUE=URI;X-ADDRESS=7550 40th Street North\, Pi
 nellas Park\, FL\, 33781\, United States;X-APPLE-RADIUS=100;X-TITLE=Terra 
 Nova:geo:27.840597,-82.68798700000002
END:VEVENT
BEGIN:VTIMEZONE
TZID:America/New_York
X-LIC-LOCATION:America/New_York
BEGIN:DAYLIGHT
DTSTART:20250309T030000
TZOFFSETFROM:-0500
TZOFFSETTO:-0400
TZNAME:EDT
END:DAYLIGHT
END:VTIMEZONE
END:VCALENDAR