BEGIN:VCALENDAR
VERSION:2.0
PRODID:-//wp-events-plugin.com//7.1.7//EN
TZID:America/New_York
X-WR-TIMEZONE:America/New_York
BEGIN:VEVENT
UID:7766@bascna.thedevbox.net
DTSTART;TZID=America/New_York:20250315T110000
DTEND;TZID=America/New_York:20250315T150000
DTSTAMP:20250118T222941Z
URL:https://bascna.thedevbox.net/events/hi-learning-day-2025
SUMMARY:H&I Learning Day 2025
DESCRIPTION:[pdf-embedder url="https://bascna.thedevbox.netwp-content/uploa
 ds/HI-LD-Flyer.pdf" title="H&amp\;I LD Flyer"]
CATEGORIES:Service
LOCATION:Eagle Lake Park\, 1800 Keene Rd\, largo\, florida\, 33756\, United
  States
GEO:27.9301567;-82.76362219999999
X-APPLE-STRUCTURED-LOCATION;VALUE=URI;X-ADDRESS=1800 Keene Rd\, largo\, flo
 rida\, 33756\, United States;X-APPLE-RADIUS=100;X-TITLE=Eagle Lake Park:ge
 o:27.9301567,-82.76362219999999
END:VEVENT
BEGIN:VTIMEZONE
TZID:America/New_York
X-LIC-LOCATION:America/New_York
BEGIN:DAYLIGHT
DTSTART:20250309T030000
TZOFFSETFROM:-0500
TZOFFSETTO:-0400
TZNAME:EDT
END:DAYLIGHT
END:VTIMEZONE
END:VCALENDAR