BEGIN:VCALENDAR
VERSION:2.0
PRODID:-//wp-events-plugin.com//7.1.7//EN
TZID:America/New_York
X-WR-TIMEZONE:America/New_York
BEGIN:VEVENT
UID:5686@bascna.thedevbox.net
DTSTART;TZID=America/New_York:20230903T090000
DTEND;TZID=America/New_York:20230903T100000
DTSTAMP:20230309T181008Z
URL:https://bascna.thedevbox.net/events/helpline-subcommittee-2-2023-09-03
SUMMARY:Helpline Subcommittee
DESCRIPTION:The Helpline Committee maintains and coordinates an effective 2
 4 hour\, 7 day per week phone line. The subcommittee attempts to make NA a
 vailable to any addicts seeking recovery by informing those who reach out 
 to us where they can find an NA meeting. They do so by following the 12 tr
 aditions and the policy guidelines of the phone line and the area.\n\nZoom
  Link: https://us06web.zoom.us/j/5890101841?pwd=YVNMVExHWldhNnpodDhueStuV
 WVxdz09\nZoom ID: 589 010 1841 | Password: bascna\n\nTo join this subcomm
 ittee please join us at the meeting!
CATEGORIES:Service
END:VEVENT
BEGIN:VTIMEZONE
TZID:America/New_York
X-LIC-LOCATION:America/New_York
BEGIN:DAYLIGHT
DTSTART:20230312T030000
TZOFFSETFROM:-0500
TZOFFSETTO:-0400
TZNAME:EDT
END:DAYLIGHT
END:VTIMEZONE
END:VCALENDAR