BEGIN:VCALENDAR
VERSION:2.0
PRODID:-//wp-events-plugin.com//7.1.7//EN
TZID:America/New_York
X-WR-TIMEZONE:America/New_York
BEGIN:VEVENT
UID:7889@bascna.thedevbox.net
DTSTART;TZID=America/New_York:20251108T100000
DTEND;TZID=America/New_York:20251108T150000
DTSTAMP:20250909T222559Z
URL:https://bascna.thedevbox.net/events/happy-free-picnic
SUMMARY:Happy & Free Picnic
DESCRIPTION:Happy &amp\; Free Annual Picnic\n\nPhilippe Park - Shelter #6\n
 \n(not affiliated)\n\nFood Fun Speakers Games Fellowship\n\nBring a dish t
 o share
CATEGORIES:Group Events
LOCATION:Philippe Park Shelter 6\, 2525 Philippe PKWY\, Safety Harbor\, FL\
 , 34695\, BASCNA\, United States
X-APPLE-STRUCTURED-LOCATION;VALUE=URI;X-ADDRESS=2525 Philippe PKWY\, Safety
  Harbor\, FL\, 34695\, BASCNA\, United States;X-APPLE-RADIUS=100;X-TITLE=P
 hilippe Park Shelter 6:geo:0,0
END:VEVENT
BEGIN:VTIMEZONE
TZID:America/New_York
X-LIC-LOCATION:America/New_York
BEGIN:STANDARD
DTSTART:20251102T010000
TZOFFSETFROM:-0400
TZOFFSETTO:-0500
TZNAME:EST
END:STANDARD
END:VTIMEZONE
END:VCALENDAR