BEGIN:VCALENDAR
VERSION:2.0
PRODID:-//wp-events-plugin.com//7.1.7//EN
TZID:America/New_York
X-WR-TIMEZONE:America/New_York
BEGIN:VEVENT
UID:7687@bascna.thedevbox.net
DTSTART;TZID=America/New_York:20231021T100000
DTEND;TZID=America/New_York:20231021T140000
DTSTAMP:20230813T130045Z
URL:https://bascna.thedevbox.net/events/great-outdoor-adventure
SUMMARY:Great Outdoor Adventure
DESCRIPTION:[pdf-embedder url="https://bascna.thedevbox.netwp-content/uploa
 ds/Outdoor-Adventure-2023.pdf"]
CATEGORIES:Group Events
LOCATION:Sawgrass Lake Park\, 7400 25th St N\, St Petersburg\, FL\, 33702\,
  United States
GEO:27.8411;-82.66993100000002
X-APPLE-STRUCTURED-LOCATION;VALUE=URI;X-ADDRESS=7400 25th St N\, St Petersb
 urg\, FL\, 33702\, United States;X-APPLE-RADIUS=100;X-TITLE=Sawgrass Lake 
 Park:geo:27.8411,-82.66993100000002
END:VEVENT
BEGIN:VTIMEZONE
TZID:America/New_York
X-LIC-LOCATION:America/New_York
BEGIN:DAYLIGHT
DTSTART:20230312T030000
TZOFFSETFROM:-0500
TZOFFSETTO:-0400
TZNAME:EDT
END:DAYLIGHT
END:VTIMEZONE
END:VCALENDAR