BEGIN:VCALENDAR
VERSION:2.0
PRODID:-//wp-events-plugin.com//7.1.7//EN
TZID:America/New_York
X-WR-TIMEZONE:America/New_York
BEGIN:VEVENT
UID:7730@bascna.thedevbox.net
DTSTART;TZID=America/New_York:20241020T110000
DTEND;TZID=America/New_York:20241020T150000
DTSTAMP:20241015T144241Z
URL:https://bascna.thedevbox.net/events/great-outdoor-adventure-2
SUMMARY:Great Outdoor Adventure - Canceled
DESCRIPTION:Event Canceled\n\nSpeaker Meeting(TBD)\n\nPicnic Lunch and Scav
 enger Hunt to follow!\n\nTrash Panda Trophies for the winner\n\nSawgrass L
 ake Park\n\n7400 25th St N. St Petersburg\, FL
CATEGORIES:Group Events
LOCATION:Sawgrass Lake Park\, 7400 25th St N\, St Petersburg\, FL\, 33702\,
  United States
GEO:27.8411;-82.66993100000002
X-APPLE-STRUCTURED-LOCATION;VALUE=URI;X-ADDRESS=7400 25th St N\, St Petersb
 urg\, FL\, 33702\, United States;X-APPLE-RADIUS=100;X-TITLE=Sawgrass Lake 
 Park:geo:27.8411,-82.66993100000002
END:VEVENT
BEGIN:VTIMEZONE
TZID:America/New_York
X-LIC-LOCATION:America/New_York
BEGIN:DAYLIGHT
DTSTART:20240310T030000
TZOFFSETFROM:-0500
TZOFFSETTO:-0400
TZNAME:EDT
END:DAYLIGHT
END:VTIMEZONE
END:VCALENDAR