BEGIN:VCALENDAR
VERSION:2.0
PRODID:-//wp-events-plugin.com//7.1.7//EN
TZID:America/New_York
X-WR-TIMEZONE:America/New_York
BEGIN:VEVENT
UID:7697@bascna.thedevbox.net
DTSTART;TZID=America/New_York:20231111T100000
DTEND;TZID=America/New_York:20231111T140000
DTSTAMP:20231014T220144Z
URL:https://bascna.thedevbox.net/events/gratitude-picnic
SUMMARY:Gratitude Picnic
DESCRIPTION:Bay Area Activities Presents:\nGratitude Picnic\n\nJoin us for 
 some food\, fun and fellowship.\n\nPie eating contest!\n\nBring a dish to 
 share. No Addict turned away.\nFood at 12pm. Meeting at 1:00pm\n\nSeminole
  Lake Park\, Pavilion 8\n(NA is not affiliated)
CATEGORIES:Bay Area Activities
LOCATION:Seminole Lake Park\, 10015 Park Blvd\, Seminole\, FL\, 33777\, Uni
 ted States
X-APPLE-STRUCTURED-LOCATION;VALUE=URI;X-ADDRESS=10015 Park Blvd\, Seminole\
 , FL\, 33777\, United States;X-APPLE-RADIUS=100;X-TITLE=Seminole Lake Park
 :geo:0,0
END:VEVENT
BEGIN:VTIMEZONE
TZID:America/New_York
X-LIC-LOCATION:America/New_York
BEGIN:STANDARD
DTSTART:20231105T010000
TZOFFSETFROM:-0400
TZOFFSETTO:-0500
TZNAME:EST
END:STANDARD
END:VTIMEZONE
END:VCALENDAR