BEGIN:VCALENDAR
VERSION:2.0
PRODID:-//wp-events-plugin.com//7.1.7//EN
TZID:America/New_York
X-WR-TIMEZONE:America/New_York
BEGIN:VEVENT
UID:7768@bascna.thedevbox.net
DTSTART;TZID=America/New_York:20250322T100000
DTEND;TZID=America/New_York:20250322T160000
DTSTAMP:20250221T131454Z
URL:https://bascna.thedevbox.net/events/good-day-sunshine-picnic-5
SUMMARY:Good Day Sunshine Picnic
DESCRIPTION:Relax and Recover Group of NA Presents Our 17 Annual\nGood Day 
 Sunshine Picnic\nNortheast Park\nSaturday March 22\, 2025 10:00 AM - 4:00 
 PM\nMeetings\, Music\, Food and Fun\n\nCovered Dishes Welcome\n\n10:00 AM 
 meeting\n\n11:15 AM Food\, Music\, Raffle and More\n\n1:00 PM Speakers: Bo
 b M. and Ester C.\n\nMusical Entertainment Provided by Blue Davis &amp\; C
 olorz
CATEGORIES:Group Events
LOCATION:Northeast Park\, 4630 East Bay Drive\, Clearwater\, FL\, 33764\, F
 lorida\, United States
GEO:27.9165495;-82.73899110000002
X-APPLE-STRUCTURED-LOCATION;VALUE=URI;X-ADDRESS=4630 East Bay Drive\, Clear
 water\, FL\, 33764\, Florida\, United States;X-APPLE-RADIUS=100;X-TITLE=No
 rtheast Park:geo:27.9165495,-82.73899110000002
END:VEVENT
BEGIN:VTIMEZONE
TZID:America/New_York
X-LIC-LOCATION:America/New_York
BEGIN:DAYLIGHT
DTSTART:20250309T030000
TZOFFSETFROM:-0500
TZOFFSETTO:-0400
TZNAME:EDT
END:DAYLIGHT
END:VTIMEZONE
END:VCALENDAR