BEGIN:VCALENDAR
VERSION:2.0
PRODID:-//wp-events-plugin.com//7.1.7//EN
TZID:America/New_York
X-WR-TIMEZONE:America/New_York
BEGIN:VEVENT
UID:7693@bascna.thedevbox.net
DTSTART;TZID=America/New_York:20231027T180000
DTEND;TZID=America/New_York:20231027T220000
DTSTAMP:20230910T135811Z
URL:https://bascna.thedevbox.net/events/game-time-basic-meeting
SUMMARY:Game Time - Basic Meeting
DESCRIPTION:The Basic Meeting is hosting Game Night\n\nGames\, Food\, Fello
 wship and FUN!!!\n\nBYOGames!!!\n\nPizza and Drinks will be provided.\n\nF
 or more information contact Joe\n\n(NA is not affiliated with Palm Lake Ch
 ristian Church)
LOCATION:Palm Lake Christian Church\, 5401 22nd Ave N\, St Petersburg\, Flo
 rida\, 33710\, United States
X-APPLE-STRUCTURED-LOCATION;VALUE=URI;X-ADDRESS=5401 22nd Ave N\, St Peters
 burg\, Florida\, 33710\, United States;X-APPLE-RADIUS=100;X-TITLE=Palm Lak
 e Christian Church:geo:0,0
END:VEVENT
BEGIN:VTIMEZONE
TZID:America/New_York
X-LIC-LOCATION:America/New_York
BEGIN:DAYLIGHT
DTSTART:20230312T030000
TZOFFSETFROM:-0500
TZOFFSETTO:-0400
TZNAME:EDT
END:DAYLIGHT
END:VTIMEZONE
END:VCALENDAR