BEGIN:VCALENDAR
VERSION:2.0
PRODID:-//wp-events-plugin.com//7.1.7//EN
TZID:America/New_York
X-WR-TIMEZONE:America/New_York
BEGIN:VEVENT
UID:7644@bascna.thedevbox.net
DTSTART;TZID=America/New_York:20220930T110000
DTEND;TZID=America/New_York:20221002T130000
DTSTAMP:20220925T181112Z
URL:https://bascna.thedevbox.net/events/funcoast-area-convention-of-narcot
 ics-anonymous
SUMMARY:Funcoast Area Convention of Narcotics Anonymous
DESCRIPTION:\n\nBook hotel room online (mention FACNA)\nFor suites\, call R
 ebecca 813-405-1186
CATEGORIES:Surrounding Area Activities,Tampa Fun Coast Activities
LOCATION:Hotel Alba Tampa\, 5303 W. Kennedy Blvd\, Tampa\, Fl\, 33609\, Uni
 ted States
X-APPLE-STRUCTURED-LOCATION;VALUE=URI;X-ADDRESS=5303 W. Kennedy Blvd\, Tamp
 a\, Fl\, 33609\, United States;X-APPLE-RADIUS=100;X-TITLE=Hotel Alba Tampa
 :geo:0,0
END:VEVENT
BEGIN:VTIMEZONE
TZID:America/New_York
X-LIC-LOCATION:America/New_York
BEGIN:DAYLIGHT
DTSTART:20220313T030000
TZOFFSETFROM:-0500
TZOFFSETTO:-0400
TZNAME:EDT
END:DAYLIGHT
END:VTIMEZONE
END:VCALENDAR