BEGIN:VCALENDAR
VERSION:2.0
PRODID:-//wp-events-plugin.com//7.1.7//EN
TZID:America/New_York
X-WR-TIMEZONE:America/New_York
BEGIN:VEVENT
UID:7598@bascna.thedevbox.net
DTSTART;TZID=America/New_York:20210701T000000
DTEND;TZID=America/New_York:20210704T000000
DTSTAMP:20210502T133847Z
URL:https://bascna.thedevbox.net/events/frcna-39-living-the-dream
SUMMARY:FRCNA 39 (Living the Dream)
DESCRIPTION:\n\n&nbsp\;\n\nJuly 1-4\n\n9840 International Drive\nOrlando\, 
 FL 32819\n\nwww.frcna.com\n\n&nbsp\;\n\nFRCNA 39 - Basic Flyer
END:VEVENT
BEGIN:VTIMEZONE
TZID:America/New_York
X-LIC-LOCATION:America/New_York
BEGIN:DAYLIGHT
DTSTART:20210314T030000
TZOFFSETFROM:-0500
TZOFFSETTO:-0400
TZNAME:EDT
END:DAYLIGHT
END:VTIMEZONE
END:VCALENDAR