BEGIN:VCALENDAR
VERSION:2.0
PRODID:-//wp-events-plugin.com//7.1.7//EN
TZID:America/New_York
X-WR-TIMEZONE:America/New_York
BEGIN:VEVENT
UID:7703@bascna.thedevbox.net
DTSTART;TZID=America/New_York;VALUE=DATE:20240314
DTEND;TZID=America/New_York;VALUE=DATE:20240318
DTSTAMP:20231117T120545Z
URL:https://bascna.thedevbox.net/events/florida-service-symposium-2
SUMMARY:Florida Service Symposium X
DESCRIPTION:Save the Dates!!\nMarch 14th-17th\, 2024\nSheraton Tampa Brando
 n\n10221 Princess Palm Ave\, Tampa\, FL 33610\n\nRegistration and Hotel bo
 oking will be available in December 1st\nStay tuned to NAFlorida.org/FSS f
 or details\n\n[pdf-embedder url="https://bascna.thedevbox.netwp-content/up
 loads/FSS-X-initial-flyer.pdf" title="FSS X initial flyer"]
CATEGORIES:Regional Events Flyers
LOCATION:Sheraton Tampa Brandon\, 10221 Princess Palm Ave\, Tampa\, FL\, 33
 610\, United States
X-APPLE-STRUCTURED-LOCATION;VALUE=URI;X-ADDRESS=10221 Princess Palm Ave\, T
 ampa\, FL\, 33610\, United States;X-APPLE-RADIUS=100;X-TITLE=Sheraton Tamp
 a Brandon:geo:0,0
END:VEVENT
BEGIN:VTIMEZONE
TZID:America/New_York
X-LIC-LOCATION:America/New_York
BEGIN:DAYLIGHT
DTSTART:20240310T030000
TZOFFSETFROM:-0500
TZOFFSETTO:-0400
TZNAME:EDT
END:DAYLIGHT
END:VTIMEZONE
END:VCALENDAR