BEGIN:VCALENDAR
VERSION:2.0
PRODID:-//wp-events-plugin.com//7.1.7//EN
TZID:America/New_York
X-WR-TIMEZONE:America/New_York
BEGIN:VEVENT
UID:7682@bascna.thedevbox.net
DTSTART;TZID=America/New_York;VALUE=DATE:20230629
DTEND;TZID=America/New_York;VALUE=DATE:20230703
DTSTAMP:20230602T152955Z
URL:https://bascna.thedevbox.net/events/florida-regional-convention-of-nar
 cotics-anonymous-frcna
SUMMARY:Florida Regional Convention of Narcotics Anonymous - FRCNA
DESCRIPTION:Registration\, reservations and info found at: frcna.com\n\n[pd
 f-embedder url="https://bascna.thedevbox.netwp-content/uploads/Registratio
 n-FRCNA-41-Flyer.pdf" title="Registration FRCNA 41 Flyer"]
LOCATION:Rosen Shingle Creek\, 9939 Universal Blvd\, Orlando\, FL\, FRCNA\,
  United States
GEO:28.4282496;-81.44299790000002
X-APPLE-STRUCTURED-LOCATION;VALUE=URI;X-ADDRESS=9939 Universal Blvd\, Orlan
 do\, FL\, FRCNA\, United States;X-APPLE-RADIUS=100;X-TITLE=Rosen Shingle C
 reek:geo:28.4282496,-81.44299790000002
END:VEVENT
BEGIN:VTIMEZONE
TZID:America/New_York
X-LIC-LOCATION:America/New_York
BEGIN:DAYLIGHT
DTSTART:20230312T030000
TZOFFSETFROM:-0500
TZOFFSETTO:-0400
TZNAME:EDT
END:DAYLIGHT
END:VTIMEZONE
END:VCALENDAR