BEGIN:VCALENDAR
VERSION:2.0
PRODID:-//wp-events-plugin.com//7.1.7//EN
TZID:America/New_York
X-WR-TIMEZONE:America/New_York
BEGIN:VEVENT
UID:7681@bascna.thedevbox.net
DTSTART;TZID=America/New_York:20230617T150000
DTEND;TZID=America/New_York:20230617T180000
DTSTAMP:20230515T193852Z
URL:https://bascna.thedevbox.net/events/day-at-the-movies
SUMMARY:Day at the Movies
DESCRIPTION:
CATEGORIES:Bay Area Activities
LOCATION:Studio Movie Grill\, 7718 113th St. N\, Seminole\, FL\, United Sta
 tes
X-APPLE-STRUCTURED-LOCATION;VALUE=URI;X-ADDRESS=7718 113th St. N\, Seminole
 \, FL\, United States;X-APPLE-RADIUS=100;X-TITLE=Studio Movie Grill:geo:0,
 0
END:VEVENT
BEGIN:VTIMEZONE
TZID:America/New_York
X-LIC-LOCATION:America/New_York
BEGIN:DAYLIGHT
DTSTART:20230312T030000
TZOFFSETFROM:-0500
TZOFFSETTO:-0400
TZNAME:EDT
END:DAYLIGHT
END:VTIMEZONE
END:VCALENDAR