BEGIN:VCALENDAR
VERSION:2.0
PRODID:-//wp-events-plugin.com//7.1.7//EN
TZID:America/New_York
X-WR-TIMEZONE:America/New_York
BEGIN:VEVENT
UID:7736@bascna.thedevbox.net
DTSTART;TZID=America/New_York:20241207T080000
DTEND;TZID=America/New_York:20241207T170000
DTSTAMP:20240926T132026Z
URL:https://bascna.thedevbox.net/events/catch-the-big-one-on-the-bascna-de
 ep-sea-fishing-trip
SUMMARY:Catch the Big One on the BASCNA Deep Sea Fishing Trip
DESCRIPTION:9 Hours Deep Sea Fishing Trip\n\nDecember 7\, 2024\n\nBoat leav
 es promptly at 8 AM and returns at 5 PM\nQueens Fleet Deep Sea Fishing\n25
  Causeway Blvd Slip #52\n\nClearwater Fl 33767\n\n80$ a person - (includes
  license\, rod and bait)\n\nOnly 75 tickets will be sold\n\nParking 10$ pe
 r vehicle  (not included must pay on site)\n\n&nbsp\;
CATEGORIES:Bay Area Activities
LOCATION:Queens Fleet Deep Sea Fishing\, 25 Causeway Boulevard Slip #52\, C
 learwater Beach\, FL\, 33767\, Bay\, United States
GEO:27.9775301;-82.82708459999998
X-APPLE-STRUCTURED-LOCATION;VALUE=URI;X-ADDRESS=25 Causeway Boulevard Slip 
 #52\, Clearwater Beach\, FL\, 33767\, Bay\, United States;X-APPLE-RADIUS=1
 00;X-TITLE=Queens Fleet Deep Sea Fishing:geo:27.9775301,-82.82708459999998
END:VEVENT
BEGIN:VTIMEZONE
TZID:America/New_York
X-LIC-LOCATION:America/New_York
BEGIN:STANDARD
DTSTART:20241103T010000
TZOFFSETFROM:-0400
TZOFFSETTO:-0500
TZNAME:EST
END:STANDARD
END:VTIMEZONE
END:VCALENDAR