BEGIN:VCALENDAR
VERSION:2.0
PRODID:-//wp-events-plugin.com//7.1.7//EN
TZID:America/New_York
X-WR-TIMEZONE:America/New_York
BEGIN:VEVENT
UID:7683@bascna.thedevbox.net
DTSTART;TZID=America/New_York:20230819T170000
DTEND;TZID=America/New_York:20230819T210000
DTSTAMP:20230617T093645Z
URL:https://bascna.thedevbox.net/events/bay-area-through-the-ages
SUMMARY:Bay Area Through The Ages
DESCRIPTION:\n\nAugust 19\, 2023 5 - 9pm\nFood at 6pm\nMeeting at 7pm\n\nEv
 ent $5\nFood $10
CATEGORIES:Bay Area Activities
LOCATION:Calvary Episcopal Church\, 1615 1st Street\, Indian Rocks Beach\, 
 FL\, 33785\, Bay Area\, United States
GEO:27.899653;-82.84688699999998
X-APPLE-STRUCTURED-LOCATION;VALUE=URI;X-ADDRESS=1615 1st Street\, Indian Ro
 cks Beach\, FL\, 33785\, Bay Area\, United States;X-APPLE-RADIUS=100;X-TIT
 LE=Calvary Episcopal Church:geo:27.899653,-82.84688699999998
END:VEVENT
BEGIN:VTIMEZONE
TZID:America/New_York
X-LIC-LOCATION:America/New_York
BEGIN:DAYLIGHT
DTSTART:20230312T030000
TZOFFSETFROM:-0500
TZOFFSETTO:-0400
TZNAME:EDT
END:DAYLIGHT
END:VTIMEZONE
END:VCALENDAR