BEGIN:VCALENDAR
VERSION:2.0
PRODID:-//wp-events-plugin.com//7.1.7//EN
TZID:America/New_York
X-WR-TIMEZONE:America/New_York
BEGIN:VEVENT
UID:7409@bascna.thedevbox.net
DTSTART;TZID=America/New_York:20210509T093000
DTEND;TZID=America/New_York:20210509T133000
DTSTAMP:20191110T151624Z
URL:https://bascna.thedevbox.net/events/bay-area-service-committee-asc-202
 1-05-09
SUMMARY:Bay Area Service Committee (ASC)
DESCRIPTION:What is the ASC?\nThe Area Service Committee is a group of reco
 vering addicts created to provide common services for Narcotics Anonymous 
 groups in a specific locale. ASC is composed of Group Service Representati
 ves or GSRs (Trusted Servants of the Groups)\, ASC Officers (Trusted Serva
 nts of the ASC) and Subcommittee Chairpersons (Trusted Servants of the ASC
 ). An ASC is usually part of a region\, to which it sends Region Committee
  Members (RCMs).\nWhen is the ASC?\nThe Bay Area Service Committee meets 1
 2 times per year\, usually every second Sunday of every month.\nHow Do I J
 oin The Bay Area Service Committee?\nBeing a Group Service Representative 
 is an honor and a privledge. GSRs are the voice of their group and it is u
 p to them to carry the Group's voice and vote at the area level. If you wa
 nt to become a GSR first start by getting a home group and get involved. I
 f you already have a home group you'll want to attend business meetings. T
 hen start by taking a commitment. If the GSR position is open and you meet
  your group's requirements you can express your desire to serve and be ele
 cted into a position.
CATEGORIES:Service
LOCATION:Terra Nova\, 7550 40th Street North\, Pinellas Park\, FL\, 33781\,
  United States
GEO:27.840597;-82.68798700000002
X-APPLE-STRUCTURED-LOCATION;VALUE=URI;X-ADDRESS=7550 40th Street North\, Pi
 nellas Park\, FL\, 33781\, United States;X-APPLE-RADIUS=100;X-TITLE=Terra 
 Nova:geo:27.840597,-82.68798700000002
END:VEVENT
BEGIN:VTIMEZONE
TZID:America/New_York
X-LIC-LOCATION:America/New_York
BEGIN:DAYLIGHT
DTSTART:20210314T030000
TZOFFSETFROM:-0500
TZOFFSETTO:-0400
TZNAME:EDT
END:DAYLIGHT
END:VTIMEZONE
END:VCALENDAR