BEGIN:VCALENDAR
VERSION:2.0
PRODID:-//wp-events-plugin.com//7.1.7//EN
TZID:America/New_York
X-WR-TIMEZONE:America/New_York
BEGIN:VEVENT
UID:7733@bascna.thedevbox.net
DTSTART;TZID=America/New_York:20241123T110000
DTEND;TZID=America/New_York:20241123T150000
DTSTAMP:20241024T231753Z
URL:https://bascna.thedevbox.net/events/bay-area-activities-presents-grati
 tude
SUMMARY:Bay Area Activities Presents Gratitude
DESCRIPTION:\n\nNovember 23rd 11:00 - 3 PM\n\nMaximo Park Pavilion 1\n\nPin
 ellas Point Dr S &amp\;\, Sunshine Skyway Ln S\,\n\nSt Petersburg\, FL 337
 11\n\nTurkey and all the fixings\n\nBring a dish to share\n\nLive Music\, 
 Food at 12 PM and Meeting at 1 PM\n\n&nbsp\;
CATEGORIES:Bay Area Activities
LOCATION:Maximo Park\, Pinellas Point Dr S &amp\; Sunshine Skyway Ln S\, St
  Petersburg\, FL\, 33711\, United States
X-APPLE-STRUCTURED-LOCATION;VALUE=URI;X-ADDRESS=Pinellas Point Dr S & Sunsh
 ine Skyway Ln S\, St Petersburg\, FL\, 33711\, United States;X-APPLE-RADIU
 S=100;X-TITLE=Maximo Park:geo:0,0
END:VEVENT
BEGIN:VTIMEZONE
TZID:America/New_York
X-LIC-LOCATION:America/New_York
BEGIN:STANDARD
DTSTART:20241103T010000
TZOFFSETFROM:-0400
TZOFFSETTO:-0500
TZNAME:EST
END:STANDARD
END:VTIMEZONE
END:VCALENDAR