BEGIN:VCALENDAR
VERSION:2.0
PRODID:-//wp-events-plugin.com//7.1.7//EN
TZID:America/New_York
X-WR-TIMEZONE:America/New_York
BEGIN:VEVENT
UID:7779@bascna.thedevbox.net
DTSTART;TZID=America/New_York:20250621T203000
DTEND;TZID=America/New_York:20250621T203000
DTSTAMP:20250509T203100Z
URL:https://bascna.thedevbox.net/events/bay-area-activities-presents-galac
 tic-bowling-seminole-lanes
SUMMARY:Bay Area Activities Presents Galactic Bowling Seminole Lanes
DESCRIPTION:Bay Area Activities Presents Galactic Bowling\nJune 21 8:30 PM\
 nSeminole Lanes\n8668 Park Blvd Seminole FL 33777\n$20 a person includes(
 shoes\, pizza and tenders)
CATEGORIES:Bay Area Activities
LOCATION:Seminole Lanes\, 8668 Park Blvd\, Seminole\, FL\, 33777\, Bay\, Un
 ited States
GEO:27.8385868;-82.75863609999999
X-APPLE-STRUCTURED-LOCATION;VALUE=URI;X-ADDRESS=8668 Park Blvd\, Seminole\,
  FL\, 33777\, Bay\, United States;X-APPLE-RADIUS=100;X-TITLE=Seminole Lane
 s:geo:27.8385868,-82.75863609999999
END:VEVENT
BEGIN:VTIMEZONE
TZID:America/New_York
X-LIC-LOCATION:America/New_York
BEGIN:DAYLIGHT
DTSTART:20250309T030000
TZOFFSETFROM:-0500
TZOFFSETTO:-0400
TZNAME:EDT
END:DAYLIGHT
END:VTIMEZONE
END:VCALENDAR