BEGIN:VCALENDAR
VERSION:2.0
PRODID:-//wp-events-plugin.com//7.1.7//EN
TZID:America/New_York
X-WR-TIMEZONE:America/New_York
BEGIN:VEVENT
UID:7789@bascna.thedevbox.net
DTSTART;TZID=America/New_York:20250823T170000
DTEND;TZID=America/New_York:20250823T220000
DTSTAMP:20250814T220413Z
URL:https://bascna.thedevbox.net/events/bay-area-activities-44th-anniversa
 ry-lets-fiesta
SUMMARY:Bay Area Activities 44th Anniversary Let's Fiesta
DESCRIPTION:Bay Area Activities Presents Our 44th Anniversary Let's Fiesta\
 n\nGulfport Recreation\n\n5730 Shore Blvd. S.\n\nGulfport\, FL 33707\n\nNA
  Not Affiliated\n\nAugust 23rd\, 2025\n\n5pm - 10pm\n\nMeeting @ 8 pm\n\nB
 ring your cards &amp\; dominoes\, also your beach chairs!\n\n$15 a plate\n
 \nDrinks for sale!\n\n&nbsp\;
CATEGORIES:Bay Area Activities
LOCATION:Gulfport Beach\, 5730 Shore Blvd\, S. Gulport\, FL\, 33707\, Unite
 d States
X-APPLE-STRUCTURED-LOCATION;VALUE=URI;X-ADDRESS=5730 Shore Blvd\, S. Gulpor
 t\, FL\, 33707\, United States;X-APPLE-RADIUS=100;X-TITLE=Gulfport Beach:g
 eo:0,0
END:VEVENT
BEGIN:VTIMEZONE
TZID:America/New_York
X-LIC-LOCATION:America/New_York
BEGIN:DAYLIGHT
DTSTART:20250309T030000
TZOFFSETFROM:-0500
TZOFFSETTO:-0400
TZNAME:EDT
END:DAYLIGHT
END:VTIMEZONE
END:VCALENDAR