BEGIN:VCALENDAR
VERSION:2.0
PRODID:-//wp-events-plugin.com//7.1.7//EN
TZID:America/New_York
X-WR-TIMEZONE:America/New_York
BEGIN:VEVENT
UID:7791@bascna.thedevbox.net
DTSTART;TZID=America/New_York:20251004T080000
DTEND;TZID=America/New_York:20251004T170000
DTSTAMP:20250814T220603Z
URL:https://bascna.thedevbox.net/events/bascna-deep-sea-fishing-trip
SUMMARY:BASCNA Deep Sea Fishing Trip
DESCRIPTION:Fishing\, Fun and Fellowship on the BASCNA Deep Sea Fishing Tri
 p\n\n9 hour deep sea fishing trip.\n\nBoat leaves promptly at 8 am and ret
 urns at 5 pm.\n\n$80 per person (Price includes license\, rod &amp\; bait)
 \n\n***Only 75 Tickets Will Be Sold***\n\nParking $10 per vehicle (not inc
 luded\, must pay on-site before boarding boat)
CATEGORIES:Bay Area Activities
LOCATION:Queens Fleet Deep Sea Fishing\, 25 Causeway Boulevard Slip #52\, C
 learwater Beach\, FL\, 33767\, Bay\, United States
GEO:27.9775301;-82.82708459999998
X-APPLE-STRUCTURED-LOCATION;VALUE=URI;X-ADDRESS=25 Causeway Boulevard Slip 
 #52\, Clearwater Beach\, FL\, 33767\, Bay\, United States;X-APPLE-RADIUS=1
 00;X-TITLE=Queens Fleet Deep Sea Fishing:geo:27.9775301,-82.82708459999998
END:VEVENT
BEGIN:VTIMEZONE
TZID:America/New_York
X-LIC-LOCATION:America/New_York
BEGIN:DAYLIGHT
DTSTART:20250309T030000
TZOFFSETFROM:-0500
TZOFFSETTO:-0400
TZNAME:EDT
END:DAYLIGHT
END:VTIMEZONE
END:VCALENDAR