BEGIN:VCALENDAR
VERSION:2.0
PRODID:-//wp-events-plugin.com//7.1.7//EN
TZID:America/New_York
X-WR-TIMEZONE:America/New_York
BEGIN:VEVENT
UID:7728@bascna.thedevbox.net
DTSTART;TZID=America/New_York:20240824T170000
DTEND;TZID=America/New_York:20240824T230000
DTSTAMP:20240715T194338Z
URL:https://bascna.thedevbox.net/events/back-to-the-basics-50s-sock-hop-pa
 rty
SUMMARY:Back To The Basics 50's Sock Hop Party
DESCRIPTION:
CATEGORIES:Bay Area Activities
LOCATION:Northwest Presbyterian Church\, 6330 54th Avenue N\, St Petersburg
 \, Florida\, 33711\, United States
GEO:27.820265;-82.7228202
X-APPLE-STRUCTURED-LOCATION;VALUE=URI;X-ADDRESS=6330 54th Avenue N\, St Pet
 ersburg\, Florida\, 33711\, United States;X-APPLE-RADIUS=100;X-TITLE=North
 west Presbyterian Church:geo:27.820265,-82.7228202
END:VEVENT
BEGIN:VTIMEZONE
TZID:America/New_York
X-LIC-LOCATION:America/New_York
BEGIN:DAYLIGHT
DTSTART:20240310T030000
TZOFFSETFROM:-0500
TZOFFSETTO:-0400
TZNAME:EDT
END:DAYLIGHT
END:VTIMEZONE
END:VCALENDAR