BEGIN:VCALENDAR
VERSION:2.0
PRODID:-//wp-events-plugin.com//7.1.7//EN
TZID:America/New_York
X-WR-TIMEZONE:America/New_York
BEGIN:VEVENT
UID:7685@bascna.thedevbox.net
DTSTART;TZID=America/New_York:20230806T080000
DTEND;TZID=America/New_York:20230806T120000
DTSTAMP:20230815T203342Z
URL:https://bascna.thedevbox.net/events/16719
SUMMARY:Skydive
DESCRIPTION:[pdf-embedder url="https://bascna.thedevbox.netwp-content/uploa
 ds/SkydiveFlyer.pdf"]
CATEGORIES:Regional Events Flyers
LOCATION:Skydive Sebastion\, 400 Airport Dr W\, Sebastion\, FL\, 32958\, Un
 ited States
X-APPLE-STRUCTURED-LOCATION;VALUE=URI;X-ADDRESS=400 Airport Dr W\, Sebastio
 n\, FL\, 32958\, United States;X-APPLE-RADIUS=100;X-TITLE=Skydive Sebastio
 n:geo:0,0
END:VEVENT
BEGIN:VTIMEZONE
TZID:America/New_York
X-LIC-LOCATION:America/New_York
BEGIN:DAYLIGHT
DTSTART:20230312T030000
TZOFFSETFROM:-0500
TZOFFSETTO:-0400
TZNAME:EDT
END:DAYLIGHT
END:VTIMEZONE
END:VCALENDAR