BEGIN:VCALENDAR
VERSION:2.0
PRODID:-//wp-events-plugin.com//7.1.7//EN
TZID:America/New_York
X-WR-TIMEZONE:America/New_York
BEGIN:VEVENT
UID:7611@bascna.thedevbox.net
DTSTART;TZID=America/New_York:20210926T110000
DTEND;TZID=America/New_York:20210926T160000
DTSTAMP:20210912T143701Z
URL:https://bascna.thedevbox.net/events/11th-step-beach-meeting-summer-bea
 ch-bash
SUMMARY:11th Step Beach Meeting - SUMMER BEACH BASH
DESCRIPTION:\n\n11th Step Beach Meeting\n\nIndian Rocks Beach\nGulf Blvd &a
 mp\; 23rd Ave.\n\nPlease bring a covered dish to share!\n\n11thStepBeach_S
 ummerBeachBash
LOCATION:Indian Rocks Beach\, 23rd Ave N\, Indian Rocks Beach\, Florida\, 3
 3785\, United States
X-APPLE-STRUCTURED-LOCATION;VALUE=URI;X-ADDRESS=23rd Ave N\, Indian Rocks B
 each\, Florida\, 33785\, United States;X-APPLE-RADIUS=100;X-TITLE=Indian R
 ocks Beach:geo:0,0
END:VEVENT
BEGIN:VTIMEZONE
TZID:America/New_York
X-LIC-LOCATION:America/New_York
BEGIN:DAYLIGHT
DTSTART:20210314T030000
TZOFFSETFROM:-0500
TZOFFSETTO:-0400
TZNAME:EDT
END:DAYLIGHT
END:VTIMEZONE
END:VCALENDAR